BEGIN:VCALENDAR
VERSION:2.0
PRODID:-//Your Story Counseling - ECPv6.15.20//NONSGML v1.0//EN
CALSCALE:GREGORIAN
METHOD:PUBLISH
X-WR-CALNAME:Your Story Counseling
X-ORIGINAL-URL:https://yourstoryinc.com
X-WR-CALDESC:Events for Your Story Counseling
REFRESH-INTERVAL;VALUE=DURATION:PT1H
X-Robots-Tag:noindex
X-PUBLISHED-TTL:PT1H
BEGIN:VTIMEZONE
TZID:America/Chicago
BEGIN:DAYLIGHT
TZOFFSETFROM:-0600
TZOFFSETTO:-0500
TZNAME:CDT
DTSTART:20240310T080000
END:DAYLIGHT
BEGIN:STANDARD
TZOFFSETFROM:-0500
TZOFFSETTO:-0600
TZNAME:CST
DTSTART:20241103T070000
END:STANDARD
BEGIN:DAYLIGHT
TZOFFSETFROM:-0600
TZOFFSETTO:-0500
TZNAME:CDT
DTSTART:20250309T080000
END:DAYLIGHT
BEGIN:STANDARD
TZOFFSETFROM:-0500
TZOFFSETTO:-0600
TZNAME:CST
DTSTART:20251102T070000
END:STANDARD
BEGIN:DAYLIGHT
TZOFFSETFROM:-0600
TZOFFSETTO:-0500
TZNAME:CDT
DTSTART:20260308T080000
END:DAYLIGHT
BEGIN:STANDARD
TZOFFSETFROM:-0500
TZOFFSETTO:-0600
TZNAME:CST
DTSTART:20261101T070000
END:STANDARD
END:VTIMEZONE
BEGIN:VEVENT
DTSTART;TZID=America/Chicago:20250516T090000
DTEND;TZID=America/Chicago:20250516T103000
DTSTAMP:20260420T172625
CREATED:20250513T215845Z
LAST-MODIFIED:20250513T215845Z
UID:5521-1747386000-1747391400@yourstoryinc.com
SUMMARY:Parent Connections - Back to School: Routines\, Resilience\, and Readiness
DESCRIPTION:Parent Connections provides an opportunity for supportive connections for parents in all phases of life. \n  \nBack to School: Routines\, Resilience\, and Readiness \nI SATURDAY\, AUGUST 16 TH \n9:00-10:30AM \nPrice: FREE
URL:https://yourstoryinc.com/event/parent-connections-back-to-school-routines-resilience-and-readiness/
LOCATION:IL
CATEGORIES:Parent Connections
ATTACH;FMTTYPE=image/jpeg:https://yourstoryinc.com/wp-content/uploads/2025/05/Summer-2025-Parent-Connections-Workshops-5-x-7-in-2.jpg
END:VEVENT
END:VCALENDAR